BEGIN:VCALENDAR
VERSION:2.0
PRODID:-//Zyme Communications - ECPv5.0.0.1//NONSGML v1.0//EN
CALSCALE:GREGORIAN
METHOD:PUBLISH
X-WR-CALNAME:Zyme Communications
X-ORIGINAL-URL:https://www.zymecommunications.com
X-WR-CALDESC:Events for Zyme Communications
BEGIN:VTIMEZONE
TZID:UTC
BEGIN:STANDARD
TZOFFSETFROM:+0000
TZOFFSETTO:+0000
TZNAME:UTC
DTSTART:20250101T000000
END:STANDARD
END:VTIMEZONE
BEGIN:VEVENT
DTSTART;VALUE=DATE:20250616
DTEND;VALUE=DATE:20250620
DTSTAMP:20260423T113534
CREATED:20250402T095904Z
LAST-MODIFIED:20250402T095904Z
UID:2691-1750032000-1750377599@www.zymecommunications.com
SUMMARY:Bio International
DESCRIPTION:
URL:https://www.zymecommunications.com/event/bio-international-2/
LOCATION:Boston\, USA\, Boston\, United States
END:VEVENT
END:VCALENDAR